BEGIN:VCALENDAR
VERSION:2.0
PRODID:-//Trupe de Truões - ECPv6.15.13.1//NONSGML v1.0//EN
CALSCALE:GREGORIAN
METHOD:PUBLISH
X-WR-CALNAME:Trupe de Truões
X-ORIGINAL-URL:https://trupedetruoes.com.br
X-WR-CALDESC:Eventos para Trupe de Truões
REFRESH-INTERVAL;VALUE=DURATION:PT1H
X-Robots-Tag:noindex
X-PUBLISHED-TTL:PT1H
BEGIN:VTIMEZONE
TZID:America/Sao_Paulo
BEGIN:STANDARD
TZOFFSETFROM:-0300
TZOFFSETTO:-0300
TZNAME:-03
DTSTART:20230101T000000
END:STANDARD
END:VTIMEZONE
BEGIN:VEVENT
DTSTART;TZID=America/Sao_Paulo:20240427T190000
DTEND;TZID=America/Sao_Paulo:20240427T200000
DTSTAMP:20260425T223317
CREATED:20240419T152750Z
LAST-MODIFIED:20240419T152750Z
UID:3203-1714244400-1714248000@trupedetruoes.com.br
SUMMARY:Jhuca Tchutchuca em: Esse sou eu (PALCO SESC)
DESCRIPTION:No dia 27 de abril de 2024 (às 19H) acontecerá a temporada de estreia do espetáculo JHUCA TCHUTCHUCA em: Esse sou eu\, um solo de palhaço com o ator Ricardo Augusto @ricardoasoliveira no Ponto dos Truões.  O espetáculo traz a figura de um palhaço andrógeno\, sem gênero identificado e evidentemente gay para abordar temas tabus de gênero e sexualidade destinados à juventude. \nA peça conta a história do palhaço Jhuca e de sua rotina de um adolescente. A cada dia ele busca a liberdade para ser ele mesmo\, sem obedecer padrões. Até que um dia\, após uma crise existencial\, Jhuca decide mudar sua história. Entre com a gente neste universo de emoções e reflexões! \nO evento está sendo promovido pelo Palco SESC desde o começo deste ano e conta com uma programação cultural com muitas outras atrações. Confira! \n DIA: 27 de abril às 19h\n ENTRADA GRATUITA! Retirada de ingressos na Central de Relacionamento do Sesc Uberlândia (Rua Benjamin Constant\, 844 – N.S. Aparecida) ou 1h antes do início do espetáculo se houver ingressos remanescentes.\n PONTO DOS TRUÕES: Av. Ana Godoy De Sousa\, 381. Bairro Santa Mônica.\n Classificação indicativa: 12 anos \nMais informações sobre o espetáculo: \nJhuca Tchutchuca em: Esse sou eu
URL:https://trupedetruoes.com.br/evento/jhuca-tchutchuca-em-esse-sou-eu-palco-sesc/
LOCATION:Ponto dos Truões\, Av. Ana Godoy De Sousa\, 381 - Santa Mônica\, - MG\, Uberlândia\, MG\, 38408-290\, Brasil
ATTACH;FMTTYPE=image/jpeg:https://trupedetruoes.com.br/wp-content/uploads/2023/12/Jhuca-Tchutchuca-2023-172.jpg
END:VEVENT
END:VCALENDAR