BEGIN:VCALENDAR
VERSION:2.0
PRODID:-//Trupe de Truões - ECPv6.15.13.1//NONSGML v1.0//EN
CALSCALE:GREGORIAN
METHOD:PUBLISH
X-WR-CALNAME:Trupe de Truões
X-ORIGINAL-URL:https://trupedetruoes.com.br
X-WR-CALDESC:Eventos para Trupe de Truões
REFRESH-INTERVAL;VALUE=DURATION:PT1H
X-Robots-Tag:noindex
X-PUBLISHED-TTL:PT1H
BEGIN:VTIMEZONE
TZID:America/Sao_Paulo
BEGIN:STANDARD
TZOFFSETFROM:-0300
TZOFFSETTO:-0300
TZNAME:-03
DTSTART:20230101T000000
END:STANDARD
END:VTIMEZONE
BEGIN:VEVENT
DTSTART;TZID=America/Sao_Paulo:20240701T200000
DTEND;TZID=America/Sao_Paulo:20240706T190000
DTSTAMP:20260425T173627
CREATED:20240624T183515Z
LAST-MODIFIED:20240626T133521Z
UID:3257-1719864000-1720292400@trupedetruoes.com.br
SUMMARY:28ª MIT - Mostra de Investigações Teatrais
DESCRIPTION:O processo de experimentação da linguagem teatral pelos alunos da Escola de Teatro da Trupe de Truões se divide entre as investigações realizadas em sala de ensaio junto ao professor diretor\, intercâmbios artísticos onde as turmas de alunos podem compartilhar conhecimentos entre si e o compartilhamento dos seus processos criativos junto ao público. Esta última etapa constitui a Mostra de Investigações Teatrais (MIT) que reúne os diferentes resultados cênicos de cada turma (espetáculos\, aulas abertas\, cenas curtas\, exercício de improvisação\, performances e etc) em uma programação de apresentações abertas ao público como forma de compartilhamento e encerramento dos processos do semestre. \nA 28ª MIT é o resultado dos processos das turmas do primeiro semestre de 2024 e acontecerá entre os dias 01 e 06 de JULHO deste ano. 👀 Confira as datas e horários de apresentação: \n► RHINOCEROS (turma: Oficina de Montagem) – 01 de julho – 20H – Classificação LIVRE\n► CÉU DE MARACANGALHA (turma: Adultos) – 02 de julho – 20H – Classificação LIVRE\n► ALEATORIAMENTE ALEATÓRIO (turma: Pré-adolescentes) – 03 de julho – 20H – Classificação LIVRE\n► TRÊS MULHERES\, TRÊS HISTÓRIAS (turma: Adolescentes I) – 04 de julho – 20H – Classificação LIVRE\n► ESCOLA DE HERÓIS (turma: Crianças) – 05 de julho – 20H – Classificação LIVRE\n► CAPITÃES DA AREIA (turma: Adolescentes II) – 06 de julho – 10H30 – Classificação LIVRE\n► PÉ COM PÉ\, UM AO LADO DO OUTRO (Núcleo de Experimentações Cênicas) – 06 de julho – 17H – Classificação LIVRE \nINGRESSOS: R$ 20\,00 (inteira) / R$ 10\,00 (meia) \nADQUIRA SEU INGRESSO AQUI\n\nPara mais informações dos espetáculos\, grupos e artistas\, acompanhe nosso instagram: @trupedetruoes ou pelo contato da Secretaria da Escola de Teatro: (34) 9172-0574\n\n  \nEsse evento integra as ações do Projeto de Manutenção Trupe de Truões 2023 por meio da Lei Estadual de Incentivo à Cultura 2023/2024\, Governo de Minas Gerais.\n👉​ MAIS INFORMAÇÕES SOBRE O PROJETO \n 
URL:https://trupedetruoes.com.br/evento/28a-mit-mostra-de-investigacoes-teatrais/
LOCATION:Ponto dos Truões\, Av. Ana Godoy De Sousa\, 381 - Santa Mônica\, - MG\, Uberlândia\, MG\, 38408-290\, Brasil
ATTACH;FMTTYPE=image/jpeg:https://trupedetruoes.com.br/wp-content/uploads/2024/06/WhatsApp-Image-2024-06-25-at-10.34.47.jpeg
END:VEVENT
END:VCALENDAR