BEGIN:VCALENDAR
VERSION:2.0
PRODID:-//Trupe de Truões - ECPv6.15.13.1//NONSGML v1.0//EN
CALSCALE:GREGORIAN
METHOD:PUBLISH
X-WR-CALNAME:Trupe de Truões
X-ORIGINAL-URL:https://trupedetruoes.com.br
X-WR-CALDESC:Eventos para Trupe de Truões
REFRESH-INTERVAL;VALUE=DURATION:PT1H
X-Robots-Tag:noindex
X-PUBLISHED-TTL:PT1H
BEGIN:VTIMEZONE
TZID:America/Sao_Paulo
BEGIN:STANDARD
TZOFFSETFROM:-0300
TZOFFSETTO:-0300
TZNAME:-03
DTSTART:20230101T000000
END:STANDARD
END:VTIMEZONE
BEGIN:VEVENT
DTSTART;TZID=America/Sao_Paulo:20241201T180000
DTEND;TZID=America/Sao_Paulo:20241208T190000
DTSTAMP:20260425T102831
CREATED:20241121T174052Z
LAST-MODIFIED:20241121T174052Z
UID:3490-1733076000-1733684400@trupedetruoes.com.br
SUMMARY:29ª MIT - Mostra de Investigações Teatrais
DESCRIPTION:O processo de experimentação da linguagem teatral pelos alunos da Escola de Teatro da Trupe de Truões se divide entre as investigações realizadas em sala de ensaio junto ao professor diretor\, intercâmbios artísticos onde as turmas de alunos podem compartilhar conhecimentos entre si e o compartilhamento dos seus processos criativos junto ao público. Esta última etapa constitui a Mostra de Investigações Teatrais (MIT) que reúne os diferentes resultados cênicos de cada turma (espetáculos\, aulas abertas\, cenas curtas\, exercício de improvisação\, performances e etc) em uma programação de apresentações abertas ao público como forma de compartilhamento e encerramento dos processos do semestre. \nA 29ª MIT é o resultado dos processos das turmas do segundo semestre de 2024 e acontecerá entre os dias 01 e 08 de DEZEMBRO deste ano. 👀 Confira as datas e horários de apresentação: \n► TÁ NA HORA DO CHÁ (turma: Pré-adolescentes) – 01 de dezembro – 18H – Classificação LIVRE\n► A HISTÓRIA DE JÚLIA (turma: Adultos II) – 02 de dezembro – 20H – Classificação 10 anos\n► DOIS AMORES E UM BICHO (fragmento) (turma: Adultos I) – 03 de dezembro – 20H – Classificação 16 anos\n► O SANTO INQUÉRITO (turma: Núcleo de Experimentações Cênicas) – 04 de dezembro – 20H – Classificação LIVRE\n► ALÉM DA IMPRESSÃO (turma: Adolescentes I) – 05 de dezembro – 20H – Classificação LIVRE\n► O DIA QUE EU NASCI (turma: Crianças) – 06 de dezembro – 20H – Classificação LIVRE\n► AVES QUE NÃO VOAM (turma: Adolescentes II) – 08 de dezembro – 18H – Classificação LIVRE \nINGRESSOS: R$ 20\,00 (inteira) / R$ 10\,00 (meia) \nADQUIRA SEU INGRESSO AQUI\n\nPara mais informações dos espetáculos\, grupos e artistas\, acompanhe nosso instagram: @trupedetruoes ou pelo contato da Secretaria da Escola de Teatro: (34) 9172-0574\n\n  \nEsse evento integra as ações do Projeto de Manutenção Trupe de Truões 2023 por meio da Lei Estadual de Incentivo à Cultura 2023/2024\, Governo de Minas Gerais.\n👉​ MAIS INFORMAÇÕES SOBRE O PROJETO
URL:https://trupedetruoes.com.br/evento/29a-mit-mostra-de-investigacoes-teatrais/
LOCATION:Ponto dos Truões\, Av. Ana Godoy De Sousa\, 381 - Santa Mônica\, - MG\, Uberlândia\, MG\, 38408-290\, Brasil
ATTACH;FMTTYPE=image/jpeg:https://trupedetruoes.com.br/wp-content/uploads/2024/11/Cabecalho-Sympla-2.jpg
END:VEVENT
BEGIN:VEVENT
DTSTART;TZID=America/Sao_Paulo:20241217T193000
DTEND;TZID=America/Sao_Paulo:20241217T203000
DTSTAMP:20260425T102831
CREATED:20241213T142122Z
LAST-MODIFIED:20241213T142122Z
UID:3495-1734463800-1734467400@trupedetruoes.com.br
SUMMARY:Jhuca Tchutchuca no Teatro da UFU
DESCRIPTION:Jhuca Tchutchuca está de volta para um momento especial em Uberlândia: a inauguração do cinema e teatro da @ufu_oficial! 🌈🤡 \nSomos um grupo que nasceu do encontro de diversas pessoas no espaço universitário\, em 2002. 💛 Estar presente na programação de estreia deste novo palco é uma felicidade sem tamanho. \nO teatro fica no Bloco 5R\, no campus Santa Mônica\, logo no primeiro prédio à esquerda ao entrar pelo acesso principal da Universidade\, na Av. João Naves de Ávila\, 2121. \n🗓️ 17 de dezembro (terça-feira)\n⏰ 19h30\n🎫 Entrada gratuita com retirada de ingressos pelo Sympla. \nSinopse: a peça conta a história de Jhuca Tchutchuca\, um palhaço adolescente\, que é reprimido pelo seu jeito em casa\, na escola e na rua. A cada dia ele busca a liberdade para ser ele mesmo\, sem obedecer a padrões\, mas acaba sofrendo bullying. Até que um dia\, após uma crise existencial\, Jhuca decide mudar sua história. \nClassificação indicativa: 12 anos.
URL:https://trupedetruoes.com.br/evento/jhuca-tchutchuca-no-teatro-da-ufu/
LOCATION:bloco 5R – Cinema Teatro da UFU\, Av. João Naves de Ávila\, 2121 - Campus Santa Mônica - Bloco 5R\, Uberlândia\, Minas Gerais\, Brazil
ATTACH;FMTTYPE=image/jpeg:https://trupedetruoes.com.br/wp-content/uploads/2024/12/Jhuca-Tchutchuca-2023-154.jpg
END:VEVENT
BEGIN:VEVENT
DTSTART;TZID=America/Sao_Paulo:20250222T183000
DTEND;TZID=America/Sao_Paulo:20250222T210000
DTSTAMP:20260425T102831
CREATED:20250212T175251Z
LAST-MODIFIED:20250217T171839Z
UID:3531-1740249000-1740258000@trupedetruoes.com.br
SUMMARY:A História de Júlia - Escola de Teatro
DESCRIPTION:“A história de Júlia” com novas sessões no próximo sábado! 🎭 \n  \nApresentado na última edição da Mostra de Investigações Teatrais (MIT)\, o espetáculo “A história de Júlia” volta em novas sessões com a Turma de Adultos da nossa Escola de Teatro. \n  \nUm trabalho potente que reflete sobre questões atuais de gênero e educação\, dirigido por um de nossos arte-educadores e reapresentado agora como parte das celebrações dos 15 anos da Escola de Teatro da Trupe de Truões. \n  \n✨ Venham prestigiar! \n📅 Quando: 22 de fevereiro \n⏰ Sessões: 18h30 e 20h \n🎟️ Ingressos no Sympla \n  \nSinopse: Esta é a história de Júlia. Ela não é vaidosa\, joga bola\, anda suja e faz “grosserias”. Ela não é aquilo que seus pais esperam dela e por isso repetem sem parar que ela é meio moleque. Certa manhã\, Júlia se depara com sua sombra de menino. Júlia chora e questiona: “como se livrar de uma sombra que nem é minha?”. \n  \nTexto: Christian Bruel e Anne Bozellec \nDireção: Cássio Machado (@cassiommachado) \nElenco: Marcio Netto\, Maryani Cristina\, O Lucão\, Sofia Menezes e Tainá Viana \n  \nPara mais informações\, acesse nosso perfil no instagram @trupedetruoes
URL:https://trupedetruoes.com.br/evento/a-historia-de-julia-escola-de-teatro/
LOCATION:Ponto dos Truões\, Av. Ana Godoy De Sousa\, 381 - Santa Mônica\, - MG\, Uberlândia\, MG\, 38408-290\, Brasil
ATTACH;FMTTYPE=image/jpeg:https://trupedetruoes.com.br/wp-content/uploads/2025/02/Capa-Sympla-1.jpg
END:VEVENT
BEGIN:VEVENT
DTSTART;TZID=America/Sao_Paulo:20250516T180000
DTEND;TZID=America/Sao_Paulo:20250607T220000
DTSTAMP:20260425T102831
CREATED:20250311T175809Z
LAST-MODIFIED:20250617T144203Z
UID:3565-1747418400-1749333600@trupedetruoes.com.br
SUMMARY:7ª Mostra de Cinema Casa Aberta
DESCRIPTION:📽️​ A 7ª Mostra de Cinema Casa Aberta acontecerá entre os meses de Março a Maio de 2025  e contará com oficinas\, exibições de filmes independentes\, show musical e intervenções artísticas no Ponto dos Truões. As oficinas tem início no dia 10 de março e seguem até dia 31/03 com o cineasta e um dos curadores da mostra Cristiano Barbosa para escolas públicas da cidade de Monte Alegre de Minas-MG. O evento com exibições dos filmes selecionados e ações artísticas acontecerá dos dias 16 a 25/05. Serão 02 finais de semana com exibição de filmes independentes de diversos estados e regiões brasileiras. \nA Mostra de Cinema Casa Aberta foi criada pela Trupe de Truões em 2017\, fundamentada na proposta do intercâmbio entre as linguagens audiovisual e teatro\, a mostra tem como propósito ser um espaço para difusão da produção audiovisual independente\, especialmente do que é produzido em Minas Gerais e na cidade de Uberlândia-MG\, além de oferecer ao público uma programação com obras que não chegam às salas de cinema comercial. \n🖤​Para essa edição de 2025\, a 7ª Mostra de Cinema terá como tema principal RAÇA\, CORPO E GÊNERO. Essa temática irá privilegiar produções autorais e independentes de pessoas cineastas pretas\, mulheres\, LGBTQIAPN+\, PCDs e demais produtores(as) audiovisuais que abordam as temáticas de raça\, corpo\, gênero\, identidades brasileiras\, arte política\, cinema de guerrilha e micropolítica. \n  \nTodas as atividades do evento terão ferramentas de acessibilidade como legendas para surdos e ensurdecidos (LSE)\, tradução em LIBRAS e profissionais disponíveis no espaço para o auxílio de pessoas com deficiências. \n  \n⭐​No dia 24/05 (sábado)\, além da sessão dos filmes selecionados\, teremos também um show com a banda FUNKSE\, uma intervenção com o Coletivo ÀKÀRÀ (com a obra: Kinésies Corrompues) e a presença das anfitriãs Paulette Truca Truca\, Victoria Carmel e Tinna Carmel.\nAs atrações começarão logo após a sessão de cinema\, a partir das 21H e para esse momento clique aqui para adquirir seu ingresso. \n  \nPara acompanhar a programação completa do evento (filmes selecionados\, convidados e intervenções artísticas)\, acesse nosso perfil do instagram @trupedetruoes
URL:https://trupedetruoes.com.br/evento/7a-mostra-de-cinema-casa-aberta/
LOCATION:Ponto dos Truões\, Av. Ana Godoy De Sousa\, 381 - Santa Mônica\, - MG\, Uberlândia\, MG\, 38408-290\, Brasil
ATTACH;FMTTYPE=image/jpeg:https://trupedetruoes.com.br/wp-content/uploads/2025/02/Imagem-Site-7a-Mostra-de-Cinema.jpg
END:VEVENT
BEGIN:VEVENT
DTSTART;TZID=America/Sao_Paulo:20250629T180000
DTEND;TZID=America/Sao_Paulo:20250706T220000
DTSTAMP:20260425T102831
CREATED:20250617T144901Z
LAST-MODIFIED:20250617T144901Z
UID:3609-1751220000-1751839200@trupedetruoes.com.br
SUMMARY:30ª MIT - Mostra de Investigações Teatrais
DESCRIPTION:O processo de experimentação da linguagem teatral pelos alunos da Escola de Teatro da Trupe de Truões se divide entre as investigações realizadas em sala de ensaio junto ao professor diretor\, intercâmbios artísticos onde as turmas de alunos podem compartilhar conhecimentos entre si e o compartilhamento dos seus processos criativos junto ao público. Esta última etapa constitui a Mostra de Investigações Teatrais (MIT) que reúne os diferentes resultados cênicos de cada turma (espetáculos\, aulas abertas\, cenas curtas\, exercício de improvisação\, performances e etc) em uma programação de apresentações abertas ao público como forma de compartilhamento e encerramento dos processos do semestre. \nA 30ª MIT é o resultado dos processos das turmas do primeiro semestre de 2025 e acontecerá entre os dias 29 de JUNHO a 06 de JULHO deste ano. \n Confira as datas e horários das apresentações: \n► O HOMEM DE LA MANCHA (turma: Adolescentes II) – 29 de junho – Classificação LIVRE // 1ª sessão – 18h / 2ª sessão – 19h\n► REPRISES\, ENTRADAS E OUTRAS PALHAÇADAS (turma: Palhaçaria) – 30 de junho – Classificação LIVRE // Sessão única – 20h\n► SHIII!! CALA-TE! (turma: Adultos) – 01 de julho – Classificação 16 anos // 1ª sessão – 19h30 / 2ª sessão – 20h30\n► PISCAR…PISCAR…PISCAR: DEVE SER ASSIM QUE FAZEM OS MORTOS/VIVOS (turma: Núcleo de Experimentações Cênicas) – 02 de julho – Classificação LIVRE // 1ª sessão – 19h30 / 2ª sessão – 20h30\n► A BATALHA DA UNIÃO (turma: Crianças) – 04 de julho – Classificação LIVRE // Sessão única – 19h30\n► JOGO DAS POSSIBILIDADES (turma: Adolescentes I) – 05 de julho – Classificação 10 anos // 1ª sessão – 18h30 / 2ª sessão – 19h30\n► O MÁGICO DE OZ (turma: Pré-adolescentes) – 06 de julho – Classificação LIVRE // 1ª sessão – 18h / 2ª sessão – 19h \nINGRESSOS: R$ 30\,00 (inteira) / R$ 15\,00 (meia) \nADQUIRA SEU INGRESSO AQUI\n\nPara mais informações dos espetáculos\, grupos e artistas\, acompanhe nosso instagram: @trupedetruoes ou pelo contato da Secretaria da Escola de Teatro: (34) 99172-0574\n\nEsse evento integra as ações do Projeto de Manutenção Trupe de Truões 2023/2025 patrocinado pelo Instituto Algar por meio da Lei Estadual de Incentivo à Cultura\, Governo de Minas Gerais.\n👉​ MAIS INFORMAÇÕES SOBRE O PROJETO
URL:https://trupedetruoes.com.br/evento/30a-mit-mostra-de-investigacoes-teatrais/
LOCATION:Ponto dos Truões\, Av. Ana Godoy De Sousa\, 381 - Santa Mônica\, - MG\, Uberlândia\, MG\, 38408-290\, Brasil
ATTACH;FMTTYPE=image/jpeg:https://trupedetruoes.com.br/wp-content/uploads/2025/06/Cabecalho-Sympla-1.jpg
END:VEVENT
BEGIN:VEVENT
DTSTART;TZID=America/Sao_Paulo:20250823T180000
DTEND;TZID=America/Sao_Paulo:20250907T220000
DTSTAMP:20260425T102831
CREATED:20250711T172956Z
LAST-MODIFIED:20250904T175558Z
UID:3723-1755972000-1757282400@trupedetruoes.com.br
SUMMARY:6ª Mostra de Teatro Casa Aberta
DESCRIPTION:A 6ª Mostra de Teatro Casa Aberta acontece nos meses de agosto e setembro de 2025. Serão 03 finais de semana com apresentações teatrais de 03 grupos selecionados via edital e um grupo convidado de Viçosa-MG. Acontecerá também um intercâmbio entre os grupos e a Trupe de Truões\, com o objetivo de compartilhar experiências sobre processos criativos e a vivência com o fazer teatral. \nToda a programação acontecerá no Ponto dos Truões. 🎭​👯‍♀️​ \nAs datas da 6ª Mostra de Teatro Casa Aberta serão:\n23 e 24/agosto – Espetáculo UMBIGO (Fernanda Bevilaqua) – 19h\n30 e 31/agosto – Espetáculo O BAR (Coletivo Teatral do Cerrado) – 19h\n06 e 07/setembro – Espetáculo PROJETO SEPARAÇÃO (Daniella Aguiar) – 19h e 19h15\n07/setembro – OLHAR COMPLEXO (Grupo convidado – Projeto da Favela para o Mundo) – 19h \nIntercâmbio: 07/setembro \n🎟️​INGRESSOS DISPONÍVEIS NO SYMPLA\nPara mais informações\, acesse o Instagram da @trupedetruoes
URL:https://trupedetruoes.com.br/evento/6a-mostra-de-teatro-casa-aberta/
LOCATION:Ponto dos Truões\, Av. Ana Godoy De Sousa\, 381 - Santa Mônica\, - MG\, Uberlândia\, MG\, 38408-290\, Brasil
ATTACH;FMTTYPE=image/jpeg:https://trupedetruoes.com.br/wp-content/uploads/2025/06/Capa-site.jpg
END:VEVENT
BEGIN:VEVENT
DTSTART;TZID=America/Sao_Paulo:20250920T180000
DTEND;TZID=America/Sao_Paulo:20250921T200000
DTSTAMP:20260425T102831
CREATED:20250904T175342Z
LAST-MODIFIED:20250912T141756Z
UID:3760-1758391200-1758484800@trupedetruoes.com.br
SUMMARY:Zapato Busca Sapato no Ponto dos Truões
DESCRIPTION:O espetáculo Zapato Busca Sapato faz parte do repertório da Trupe de Truões desde 2016\, e esse ano de 2025 retorna a sua casa! Dias 20 e 21 de setembro\, o sapatinho Euyo apresenta sua jornada no Ponto dos Truões. \nA história começa com o despertar de um pequeno sapato que nasceu sozinho em sua caixa\, na Cidade do México. Na busca por seu companheiro\, ele viaja ao Brasil e logo a Moçambique\, aonde encontra um menino com uma perna só que o adota. A aventura do sapato solitário conduz a uma reflexão sobre o reconhecimento de ser diferente. A obra é um convite para sensibilizar sobre o racismo e a discriminação\, uma alegoria a negritude como uma raiz comum de países como México onde os indígenas andam descalços\, ou no Brasil onde os escravos não podiam usar calçados\, ou em Moçambique\, onde muitas crianças\, vítimas das minas terrestres\, usam um só sapato. \n👉​🎟️​ ADQUIRA SEU INGRESSO!\nPara mais informações\, acesse nosso perfil no Instagram @trupedetruoes
URL:https://trupedetruoes.com.br/evento/zapato-busca-sapato-no-ponto-dos-truoes/
LOCATION:Ponto dos Truões\, Av. Ana Godoy De Sousa\, 381 - Santa Mônica\, - MG\, Uberlândia\, MG\, 38408-290\, Brasil
ATTACH;FMTTYPE=image/jpeg:https://trupedetruoes.com.br/wp-content/uploads/2025/09/Capa-Sympla.jpg
END:VEVENT
BEGIN:VEVENT
DTSTART;TZID=America/Sao_Paulo:20251129T160000
DTEND;TZID=America/Sao_Paulo:20251214T210000
DTSTAMP:20260425T102831
CREATED:20251112T134725Z
LAST-MODIFIED:20251113T143309Z
UID:3788-1764432000-1765746000@trupedetruoes.com.br
SUMMARY:31ª MIT - MOSTRA DE INVESTIGAÇÕES TEATRAIS
DESCRIPTION:O processo de experimentação da linguagem teatral pelos alunos da Escola de Teatro da Trupe de Truões se divide entre as investigações realizadas em sala de ensaio junto ao professor diretor\, intercâmbios artísticos onde as turmas de alunos podem compartilhar conhecimentos entre si e o compartilhamento dos seus processos criativos junto ao público. Esta última etapa constitui a Mostra de Investigações Teatrais (MIT) que reúne os diferentes resultados cênicos de cada turma (espetáculos\, aulas abertas\, cenas curtas\, exercício de improvisação\, performances e etc) em uma programação de apresentações abertas ao público como forma de compartilhamento e encerramento dos processos do semestre. \nA 31ª MIT é o resultado dos processos das turmas do segundo semestre de 2025 e acontecerá entre os dias 29 de NOVEMBRO a 14 de DEZEMBRO deste ano. \n Confira as datas e horários das apresentações: \n► O despertar dos brinquedos (turma: Crianças) – 29 de novembro – Classificação LIVRE // 16H\n► Um Bobo Real (turma: Adolescentes II) – 29 de novembro – Classificação LIVRE // 20H\n► Malas e um picadeiro viajante (turma: Pré-Adolescentes) – 30 de novembro – Classificação LIVRE // 1ª sessão – 18H / 2ª sessão – 19H\n► Jogo das possibilidades (turma: Adolescentes I) – 13 de dezembro – Classificação 8 anos // 19H\n► Do amor e outros crimes (turma: Adultos) – 14 de dezembro – Classificação 16 anos / 19H \nINGRESSOS: R$ 30\,00 (inteira) / R$ 15\,00 (meia) \nADQUIRA SEU INGRESSO AQUI\n\nPara mais informações dos espetáculos\, grupos e artistas\, acompanhe nosso instagram: @trupedetruoes ou pelo contato da Secretaria da Escola de Teatro: (34) 99172-0574\n\n_\nA MIT tem o patrocínio do Instituto Algar\, por meio da Lei Estadual de Incentivo à Cultura de Minas Gerais. É uma realização da Trupe de Truões e da Secretaria de Estado de Cultura e Turismo de Minas Gerais / Governo de Minas Gerais.
URL:https://trupedetruoes.com.br/evento/31a-mit-mostra-de-investigacoes-teatrais/
ATTACH;FMTTYPE=image/jpeg:https://trupedetruoes.com.br/wp-content/uploads/2025/11/31a-MIT_Sympla_Aprovado.jpg
END:VEVENT
BEGIN:VEVENT
DTSTART;TZID=America/Sao_Paulo:20260417T200000
DTEND;TZID=America/Sao_Paulo:20260417T210000
DTSTAMP:20260425T102831
CREATED:20260414T190404Z
LAST-MODIFIED:20260414T191325Z
UID:3967-1776456000-1776459600@trupedetruoes.com.br
SUMMARY:Jhuca Tchutchuca no TRAMA
DESCRIPTION:Dia 17 de Abril às 20H\, acontece o espetáculo JHUCA TCHUTCHUCA EM: ESSE SOU EU no Festival TRAMA! \nO espetáculo será no Cineteatro Nininha Rocha\, em Uberlândia MG (Praça Prof. Jacy de Assis\, s/n – Centro – CENTRO MUNICIPAL DE CULTURA) e será gratuito. \nPara mais informações procurem nosso perfil no Instagram @trupedetruoes ou nos canais de comunicação da Prefeitura Municipal de Uberlândia. \nEsperamos todos lá!
URL:https://trupedetruoes.com.br/evento/jhuca-tchutchuca-no-trama/
ATTACH;FMTTYPE=image/jpeg:https://trupedetruoes.com.br/wp-content/uploads/2026/04/TRUPE_TRUOES_ESSE_SOU_EU_660.jpg
END:VEVENT
END:VCALENDAR