BEGIN:VCALENDAR
VERSION:2.0
PRODID:-//Trupe de Truões - ECPv6.15.13.1//NONSGML v1.0//EN
CALSCALE:GREGORIAN
METHOD:PUBLISH
X-WR-CALNAME:Trupe de Truões
X-ORIGINAL-URL:https://trupedetruoes.com.br
X-WR-CALDESC:Eventos para Trupe de Truões
REFRESH-INTERVAL;VALUE=DURATION:PT1H
X-Robots-Tag:noindex
X-PUBLISHED-TTL:PT1H
BEGIN:VTIMEZONE
TZID:America/Sao_Paulo
BEGIN:STANDARD
TZOFFSETFROM:-0300
TZOFFSETTO:-0300
TZNAME:-03
DTSTART:20230101T000000
END:STANDARD
END:VTIMEZONE
BEGIN:VEVENT
DTSTART;TZID=America/Sao_Paulo:20240823T190000
DTEND;TZID=America/Sao_Paulo:20241012T190000
DTSTAMP:20260425T102601
CREATED:20240816T134421Z
LAST-MODIFIED:20240828T174629Z
UID:3372-1724439600-1728759600@trupedetruoes.com.br
SUMMARY:CIRCULAÇÃO MBAÉ'TATÁ 2024
DESCRIPTION:Nesse segundo semestre de 2024\, retornamos com o espetáculo MBAÉ’TATÁ em uma pequena circulação por Cruzeiro dos Peixotos\, Tapuirama e Uberlândia /MG. Teremos 5 apresentações em praças e escolas das cidades\, por meio do Incentivo do Programa Municipal de Incentivo à Cultura – PMIC. 🐍​🔥​ \nConfira as datas e horários de apresentação: \n• 23 de agosto (19H) – Cruzeiro dos Peixotos/MG\n• 24 de agosto (18H) – Tapuirama/MG \n• 07 de outubro (14H) – Escola Municipal Gladsen Guerra (Uberlândia/MG) – Exclusiva para os alunos.\n• 08 de outubro (10H e 14H) – Escola Municipal Jacy de Assis (Uberlândia/MG) – Exclusiva para os alunos. \n• 12 de outubro (17H30) – Praça Said Chacur (Uberlândia/MG) \n👉​ As apresentações serão gratuitas e classificação indicativa LIVRE.\n👉 ​Todas as apresentações terão interpretação simultânea em LIBRAS \nQuer saber mais sobre o espetáculo? Clique aqui \n👀​ Para mais informações sobre quaisquer outras atividades da Trupe de Truões\, acesse nosso instagram @trupedetruoes  \n 
URL:https://trupedetruoes.com.br/evento/circulacao-mbaetata-2024/
ATTACH;FMTTYPE=image/jpeg:https://trupedetruoes.com.br/wp-content/uploads/2024/08/Peca-geral-e1723815849679.jpg
END:VEVENT
BEGIN:VEVENT
DTSTART;TZID=America/Sao_Paulo:20241018T100000
DTEND;TZID=America/Sao_Paulo:20241028T230000
DTSTAMP:20260425T102601
CREATED:20241011T203325Z
LAST-MODIFIED:20241106T142031Z
UID:3445-1729245600-1730156400@trupedetruoes.com.br
SUMMARY:6ª Mostra de Cinema Casa Aberta
DESCRIPTION:A 6ª Mostra de Cinema Casa Aberta acontecerá no mês de Outubro de 2024 nos dias 18 a 20\, 25 a 28/10. Serão 02 finais de semana com exibição de filmes independentes de diversos estados e regiões brasileiras. \nA Mostra de Cinema Casa Aberta foi criada pela Trupe de Truões em 2017\, fundamentada na proposta do intercâmbio entre as linguagens audiovisual e teatro\, a mostra tem como propósito ser um espaço para difusão da produção audiovisual independente\, especialmente do que é produzido em Minas Gerais e na cidade de Uberlândia-MG\, além de oferecer ao público uma programação com obras que não chegam às salas de cinema comercial.\nPara a 6ª edição\, a mostra terá como tema principal PROTAGONISMO NEGRO. Essa temática conduziu o trabalho curatorial para composição de uma programação que destaque produções audiovisuais protagonizadas por pessoas negras. \nFique atento à programação:\n  \n18/10 (sexta-feira)\n• 9h – Mosca visita Casa Aberta – Filmes Infantojuvenis para alunos da ESEBA\n• 15h – Mosca visita Casa Aberta – Filmes Infantojuvenis para alunos da ESEBA \n19/10 (sábado)\n• 19h30 – Atividade com convidados + filme convidado\nEntrelinhas: Mestre Fabinho\n• 20h – SHOW Quinteto do Samba – Samba em 5 atos \n20/10 (domingo)\n• 16h30 – Mosca visita Casa Aberta – Filmes infantojuvenis: Sessão aberta ao público\nO jeito Yuri de curtir a vida\nSalu e o cavalo marinho\nMeu nome é Maalum\nMytikah – O livro dos Heróis: Dandara e Zumbi dos Palmares\nRua Dinorá \n• 18h – Mostra Casa Aberta\nA santa\nEmerenciana\nAlexandrina: Um relâmpago\nMalunga\nCaluim\nPenumbra\nDeixa \n25/10 (sexta-feira)\n• 9h – Mosca visita Casa Aberta – Filmes Infantojuvenis para alunos da ESEBA \n26/10 (sábado)\n• 20h – Atividade com convidados + filme convidado e bato-papo após exibição\nO olhar de Edite \n27/10 (domingo)\n• 16h30 – Mosca visita Casa Aberta – Filmes infantojuvenis: Sessão aberta ao público\nAlice dos Anjos \n• 18h – Mostra Casa Aberta\nDance Funk!\nI Uma / One\nVão das Almas\nMemórias Culinárias Quilombo Ausente Feliz\nBença \n28/10 (segunda-feira)\n10h e 13h – Sessão para a APAE \nPara informações mais detalhadas dos filmes\, acompanhem nosso perfil no instagram @trupedetruoes\, lá estarão todas as informações da Mostra de Cinema Casa Aberta.
URL:https://trupedetruoes.com.br/evento/6a-mostra-de-cinema-casa-aberta/
LOCATION:Ponto dos Truões\, Av. Ana Godoy De Sousa\, 381 - Santa Mônica\, - MG\, Uberlândia\, MG\, 38408-290\, Brasil
ATTACH;FMTTYPE=image/jpeg:https://trupedetruoes.com.br/wp-content/uploads/2024/09/BANNER-SITE-3.jpg
END:VEVENT
END:VCALENDAR